{
 "currentVersion": 11.3,
 "cimVersion": "3.3.0",
 "serviceDescription": "",
 "mapName": "Layers",
 "description": "",
 "copyrightText": "Tighe & Bond",
 "supportsDynamicLayers": true,
 "layers": [
  {
   "id": 0,
   "name": "Town Boundary",
   "parentLayerId": -1,
   "defaultVisibility": true,
   "subLayerIds": null,
   "minScale": 0,
   "maxScale": 0,
   "type": "Feature Layer",
   "geometryType": "esriGeometryPolygon",
   "supportsDynamicLegends": true
  },
  {
   "id": 1,
   "name": "Buildings",
   "parentLayerId": -1,
   "defaultVisibility": true,
   "subLayerIds": [
    2
   ],
   "minScale": 0,
   "maxScale": 0,
   "type": "Group Layer",
   "supportsDynamicLegends": false
  },
  {
   "id": 2,
   "name": "Buildings",
   "parentLayerId": 1,
   "defaultVisibility": true,
   "subLayerIds": null,
   "minScale": 6000,
   "maxScale": 0,
   "type": "Feature Layer",
   "geometryType": "esriGeometryPolygon",
   "supportsDynamicLegends": true
  },
  {
   "id": 3,
   "name": "Railroads",
   "parentLayerId": -1,
   "defaultVisibility": true,
   "subLayerIds": null,
   "minScale": 0,
   "maxScale": 0,
   "type": "Feature Layer",
   "geometryType": "esriGeometryPolyline",
   "supportsDynamicLegends": true
  },
  {
   "id": 4,
   "name": "MassDOT Roads",
   "parentLayerId": -1,
   "defaultVisibility": true,
   "subLayerIds": null,
   "minScale": 0,
   "maxScale": 6012,
   "type": "Feature Layer",
   "geometryType": "esriGeometryPolyline",
   "supportsDynamicLegends": true
  },
  {
   "id": 5,
   "name": "Centerline",
   "parentLayerId": -1,
   "defaultVisibility": true,
   "subLayerIds": null,
   "minScale": 0,
   "maxScale": 48000,
   "type": "Feature Layer",
   "geometryType": "esriGeometryPolyline",
   "supportsDynamicLegends": true
  },
  {
   "id": 6,
   "name": "Parcels",
   "parentLayerId": -1,
   "defaultVisibility": true,
   "subLayerIds": null,
   "minScale": 24000,
   "maxScale": 0,
   "type": "Feature Layer",
   "geometryType": "esriGeometryPolygon",
   "supportsDynamicLegends": true
  },
  {
   "id": 7,
   "name": "Outside Southampton",
   "parentLayerId": -1,
   "defaultVisibility": true,
   "subLayerIds": null,
   "minScale": 0,
   "maxScale": 0,
   "type": "Feature Layer",
   "geometryType": "esriGeometryPolygon",
   "supportsDynamicLegends": true
  },
  {
   "id": 8,
   "name": "ROW",
   "parentLayerId": -1,
   "defaultVisibility": true,
   "subLayerIds": null,
   "minScale": 24000,
   "maxScale": 6012.000000000001,
   "type": "Feature Layer",
   "geometryType": "esriGeometryPolygon",
   "supportsDynamicLegends": true
  },
  {
   "id": 9,
   "name": "ROW",
   "parentLayerId": -1,
   "defaultVisibility": true,
   "subLayerIds": null,
   "minScale": 0,
   "maxScale": 0,
   "type": "Feature Layer",
   "geometryType": "esriGeometryPolygon",
   "supportsDynamicLegends": true
  },
  {
   "id": 10,
   "name": "Major Hydrography",
   "parentLayerId": -1,
   "defaultVisibility": true,
   "subLayerIds": [
    11,
    12
   ],
   "minScale": 0,
   "maxScale": 0,
   "type": "Group Layer",
   "supportsDynamicLegends": false
  },
  {
   "id": 11,
   "name": "Lakes and Ponds",
   "parentLayerId": 10,
   "defaultVisibility": true,
   "subLayerIds": null,
   "minScale": 0,
   "maxScale": 0,
   "type": "Feature Layer",
   "geometryType": "esriGeometryPolygon",
   "supportsDynamicLegends": true
  },
  {
   "id": 12,
   "name": "Rivers and Streams",
   "parentLayerId": 10,
   "defaultVisibility": true,
   "subLayerIds": null,
   "minScale": 0,
   "maxScale": 0,
   "type": "Feature Layer",
   "geometryType": "esriGeometryPolyline",
   "supportsDynamicLegends": true
  },
  {
   "id": 13,
   "name": "DEP Wetlands",
   "parentLayerId": -1,
   "defaultVisibility": true,
   "subLayerIds": null,
   "minScale": 48000,
   "maxScale": 0,
   "type": "Feature Layer",
   "geometryType": "esriGeometryPolygon",
   "supportsDynamicLegends": true
  },
  {
   "id": 14,
   "name": "Protected and Recreational Open Space",
   "parentLayerId": -1,
   "defaultVisibility": true,
   "subLayerIds": null,
   "minScale": 0,
   "maxScale": 0,
   "type": "Feature Layer",
   "geometryType": "esriGeometryPolygon",
   "supportsDynamicLegends": true
  },
  {
   "id": 15,
   "name": "Parcels",
   "parentLayerId": -1,
   "defaultVisibility": true,
   "subLayerIds": null,
   "minScale": 24000,
   "maxScale": 0,
   "type": "Feature Layer",
   "geometryType": "esriGeometryPolygon",
   "supportsDynamicLegends": true
  },
  {
   "id": 16,
   "name": "Southampton",
   "parentLayerId": -1,
   "defaultVisibility": true,
   "subLayerIds": null,
   "minScale": 0,
   "maxScale": 0,
   "type": "Feature Layer",
   "geometryType": "esriGeometryPolygon",
   "supportsDynamicLegends": true
  }
 ],
 "tables": [],
 "spatialReference": {
  "wkid": 102100,
  "latestWkid": 3857,
  "xyTolerance": 0.001,
  "zTolerance": 0.001,
  "mTolerance": 0.001,
  "falseX": -20037700,
  "falseY": -30241100,
  "xyUnits": 10000,
  "falseZ": -100000,
  "zUnits": 10000,
  "falseM": -100000,
  "mUnits": 10000
 },
 "singleFusedMapCache": true,
 "tileInfo": {
  "rows": 256,
  "cols": 256,
  "dpi": 96,
  "format": "PNG",
  "compressionQuality": 0,
  "origin": {
   "x": -2.0037508342787E7,
   "y": 2.0037508342787E7
  },
  "spatialReference": {
   "wkid": 102100,
   "latestWkid": 3857,
   "xyTolerance": 0.001,
   "zTolerance": 0.001,
   "mTolerance": 0.001,
   "falseX": -20037700,
   "falseY": -30241100,
   "xyUnits": 1.4892314192838538E8,
   "falseZ": -100000,
   "zUnits": 10000,
   "falseM": -100000,
   "mUnits": 10000
  },
  "lods": [
   {
    "level": 0,
    "resolution": 12.700025400050801,
    "scale": 48000
   },
   {
    "level": 1,
    "resolution": 6.350012700025401,
    "scale": 24000
   },
   {
    "level": 2,
    "resolution": 3.1750063500127004,
    "scale": 12000
   },
   {
    "level": 3,
    "resolution": 1.5875031750063502,
    "scale": 6000
   },
   {
    "level": 4,
    "resolution": 0.63500127000254,
    "scale": 2400
   },
   {
    "level": 5,
    "resolution": 0.31750063500127,
    "scale": 1200
   },
   {
    "level": 6,
    "resolution": 0.158750317500635,
    "scale": 600
   },
   {
    "level": 7,
    "resolution": 0.0793751587503175,
    "scale": 300
   }
  ]
 },
 "storageInfo": {
  "storageFormat": "esriMapCacheStorageModeCompactV2",
  "packetSize": 128
 },
 "initialExtent": {
  "xmin": -8108095.406355997,
  "ymin": 5187288.377038606,
  "xmax": -8083641.576721064,
  "ymax": 5204414.361290575,
  "spatialReference": {
   "wkid": 102100,
   "latestWkid": 3857,
   "xyTolerance": 0.001,
   "zTolerance": 0.001,
   "mTolerance": 0.001,
   "falseX": -20037700,
   "falseY": -30241100,
   "xyUnits": 10000,
   "falseZ": -100000,
   "zUnits": 10000,
   "falseM": -100000,
   "mUnits": 10000
  }
 },
 "fullExtent": {
  "xmin": -8107524.416100377,
  "ymin": 5187480.279714195,
  "xmax": -8083368.96778948,
  "ymax": 5204606.263966164,
  "spatialReference": {
   "wkid": 102100,
   "latestWkid": 3857,
   "xyTolerance": 0.001,
   "zTolerance": 0.001,
   "mTolerance": 0.001,
   "falseX": -20037700,
   "falseY": -30241100,
   "xyUnits": 10000,
   "falseZ": -100000,
   "zUnits": 10000,
   "falseM": -100000,
   "mUnits": 10000
  }
 },
 "datesInUnknownTimezone": false,
 "minScale": 48000,
 "maxScale": 300,
 "minLOD": 0,
 "maxLOD": 7,
 "units": "esriMeters",
 "supportedImageFormatTypes": "PNG32,PNG24,PNG,JPG,DIB,TIFF,EMF,PS,PDF,GIF,SVG,SVGZ,BMP",
 "documentInfo": {
  "Title": "Untitled.aprx",
  "Author": "",
  "Comments": "",
  "Subject": "Longmeadow Basemap",
  "Category": "",
  "Version": "3.3.0",
  "AntialiasingMode": "Fast",
  "TextAntialiasingMode": "Force",
  "Keywords": "Southampton"
 },
 "supportsQueryDomains": true,
 "capabilities": "Map,Query,Data",
 "supportedQueryFormats": "JSON, geoJSON, PBF",
 "exportTilesAllowed": false,
 "referenceScale": 0.0,
 "datumTransformations": [
  {
   "geoTransforms": [
    {
     "wkid": 108001,
     "latestWkid": 1241,
     "transformForward": true,
     "name": "NAD_1927_To_NAD_1983_NADCON"
    }
   ]
  },
  {
   "geoTransforms": [
    {
     "wkid": 108001,
     "latestWkid": 1241,
     "transformForward": false,
     "name": "NAD_1927_To_NAD_1983_NADCON"
    }
   ]
  },
  {
   "geoTransforms": [
    {
     "wkid": 108190,
     "latestWkid": 108190,
     "transformForward": true,
     "name": "WGS_1984_(ITRF00)_To_NAD_1983"
    }
   ]
  },
  {
   "geoTransforms": [
    {
     "wkid": 108190,
     "latestWkid": 108190,
     "transformForward": false,
     "name": "WGS_1984_(ITRF00)_To_NAD_1983"
    }
   ]
  }
 ],
 "supportsDatumTransformation": true,
 "archivingInfo": {
  "supportsHistoricMoment": false
 },
 "supportsClipping": true,
 "supportsSpatialFilter": true,
 "supportsTimeRelation": true,
 "supportsQueryDataElements": true,
 "mapUnits": {
  "uwkid": 9001
 },
 "maxRecordCount": 2000,
 "maxImageHeight": 4096,
 "maxImageWidth": 4096,
 "supportedExtensions": "",
 "resampling": false
}
